BEGIN:VCALENDAR
VERSION:2.0
PRODID:-//wp-events-plugin.com//7.2.3.1//EN
TZID:Europe/Berlin
X-WR-TIMEZONE:Europe/Berlin
BEGIN:VEVENT
UID:84@anders-denken-lernen.de
DTSTART;TZID=Europe/Berlin;VALUE=DATE:20151118
DTEND;TZID=Europe/Berlin;VALUE=DATE:20151119
DTSTAMP:20151107T172757Z
URL:https://anders-denken-lernen.de/termine/lesung-2/
SUMMARY:Lesung -  - 18 Nov. 15 00:00
DESCRIPTION:\n\n\n\nDer unendliche Augenblick. Warum Zeiten der Unsicherhei
 t so wertvoll sind\n\nOrt: Die Buchhandlung\, Schillingsgasse 3\, 76275 Et
 tlingen\nWeitere Informationen\n\n\n\n\n
END:VEVENT
BEGIN:VTIMEZONE
TZID:Europe/Berlin
X-LIC-LOCATION:Europe/Berlin
BEGIN:STANDARD
DTSTART:20151025T020000
TZOFFSETFROM:+0200
TZOFFSETTO:+0100
TZNAME:CET
END:STANDARD
END:VTIMEZONE
END:VCALENDAR