BEGIN:VCALENDAR
VERSION:2.0
PRODID:-//wp-events-plugin.com//7.2.3.1//EN
TZID:Europe/Berlin
X-WR-TIMEZONE:Europe/Berlin
BEGIN:VEVENT
UID:39@anders-denken-lernen.de
DTSTART;TZID=Europe/Berlin:20121107T000000
DTEND;TZID=Europe/Berlin:20121107T000000
DTSTAMP:20130129T062259Z
URL:https://anders-denken-lernen.de/termine/seminar-6/
SUMMARY:Seminar -  - 7 Nov. 12 00:00
DESCRIPTION:Praxisforum 2012 an der Hochschule für Soziale Arbeit FHNW\n«
 Zeit\, anders zu denken» gemeinsam mit Ulrich Schnabel\nHochschule für S
 ozial Arbeit\, Riggenbachstr. 16\, CH-Olten\, 9:00-16:30 Uhr\nWeitere Info
 rmationen: FHNW
END:VEVENT
BEGIN:VTIMEZONE
TZID:Europe/Berlin
X-LIC-LOCATION:Europe/Berlin
BEGIN:STANDARD
DTSTART:20121028T020000
TZOFFSETFROM:+0200
TZOFFSETTO:+0100
TZNAME:CET
END:STANDARD
END:VTIMEZONE
END:VCALENDAR