BEGIN:VCALENDAR
VERSION:2.0
PRODID:-//wp-events-plugin.com//7.2.3.1//EN
TZID:Europe/Berlin
X-WR-TIMEZONE:Europe/Berlin
BEGIN:VEVENT
UID:181@anders-denken-lernen.de
DTSTART;TZID=Europe/Berlin;VALUE=DATE:20230127
DTEND;TZID=Europe/Berlin;VALUE=DATE:20230128
DTSTAMP:20230205T142650Z
URL:https://anders-denken-lernen.de/termine/teacher-training/
SUMMARY:Teacher-Training -  - 27 Jan. 23 00:00
DESCRIPTION:Spirit Yoga - Studio Zehelendorf
END:VEVENT
BEGIN:VTIMEZONE
TZID:Europe/Berlin
X-LIC-LOCATION:Europe/Berlin
BEGIN:STANDARD
DTSTART:20221030T020000
TZOFFSETFROM:+0200
TZOFFSETTO:+0100
TZNAME:CET
END:STANDARD
END:VTIMEZONE
END:VCALENDAR