BEGIN:VCALENDAR
VERSION:2.0
PRODID:-//wp-events-plugin.com//7.2.3.1//EN
TZID:Europe/Berlin
X-WR-TIMEZONE:Europe/Berlin
BEGIN:VEVENT
UID:201@anders-denken-lernen.de
DTSTART;TZID=Europe/Berlin;VALUE=DATE:20250507
DTEND;TZID=Europe/Berlin;VALUE=DATE:20250508
DTSTAMP:20241013T131155Z
URL:https://anders-denken-lernen.de/termine/verzeihen-koennen/
SUMMARY:Verzeihen können -  - 7 Mai 25 00:00
DESCRIPTION:Über das Verzeihen und die Freiheit\, die es uns schenkt.\n\nV
 ortrag bei der Arbeiterkammer (AK) Vorablberg. 19:30 Uhr in AT-Feldkirch.\
 n\nWeitere Informationen hier
END:VEVENT
BEGIN:VTIMEZONE
TZID:Europe/Berlin
X-LIC-LOCATION:Europe/Berlin
BEGIN:DAYLIGHT
DTSTART:20250330T030000
TZOFFSETFROM:+0100
TZOFFSETTO:+0200
TZNAME:CEST
END:DAYLIGHT
END:VTIMEZONE
END:VCALENDAR